BEGIN:VCALENDAR
VERSION:2.0
PRODID:-//Squarespace Inc/Squarespace 6//v6//EN
BEGIN:VEVENT
UID:55d01d1ee4b061baebe438a4@squarespace.com
DTSTAMP:20150824T230358Z
DTSTART:20150924T040000Z
DTEND:20150924T070000Z
SUMMARY:Synapse 2015 - Wellington
GEO:-41.290502;174.781737
LOCATION:Te Papa Rangimarie rooms\, Te Huinga Centre\, 55 Cable St\, Wellin
 gton\, New Zealand
END:VEVENT
END:VCALENDAR
