BEGIN:VCALENDAR
VERSION:2.0
PRODID:-//Squarespace Inc/Squarespace 6//v6//EN
BEGIN:VEVENT
UID:55d0173ce4b05658d748b044@squarespace.com
DTSTAMP:20150818T041844Z
DTSTART:20150819T051500Z
DTEND:20150819T073000Z
SUMMARY:Science Communication Workshop - Wellington
GEO:-41.28646;174.776236
LOCATION:AM 105 Alan MacDiarmid Building\, Victoria University of Wellingto
 n\, Kelburn Campus\, Wellington\, New Zealand
END:VEVENT
END:VCALENDAR
