BEGIN:VCALENDAR
VERSION:2.0
PRODID:-//Squarespace Inc/Squarespace 6//v6//EN
BEGIN:VEVENT
UID:55d01962e4b0c17da81384eb@squarespace.com
DTSTAMP:20150818T041924Z
DTSTART:20150908T051500Z
DTEND:20150908T073000Z
SUMMARY:Networking Workshop: Making Science Connections - Wellington
GEO:-41.28646;174.776236
LOCATION:AM 101 Alan MacDiarmid Building\, Victoria University of Wellingto
 n\, Kelburn Campus\, Wellington\, New Zealand
END:VEVENT
END:VCALENDAR
