BEGIN:VCALENDAR
VERSION:2.0
PRODID:-//Squarespace Inc/Squarespace 6//v6//EN
BEGIN:VEVENT
UID:55f5422ce4b00bf335417851@squarespace.com
DTSTAMP:20150916T004057Z
DTSTART:20150930T050000Z
DTEND:20150930T070000Z
SUMMARY:Chiasma Dunedin Showcase 2015 - Dunedin
GEO:-45.863318;170.514361
LOCATION:Centre for Innovation\, 87 Saint David Street\, Dunedin\, Otago\, 
 9016\, New Zealand
END:VEVENT
END:VCALENDAR
