BEGIN:VCALENDAR
VERSION:2.0
PRODID:-//Squarespace Inc/Squarespace 6//v6//EN
BEGIN:VEVENT
UID:55dba2ece4b0c125bef237fb@squarespace.com
DTSTAMP:20150904T153706Z
DTSTART:20150904T223000Z
DTEND:20150905T013000Z
SUMMARY:Chiasma Coding Workshop - Auckland
GEO:-36.852434;174.76804
LOCATION:Science Centre\, University of Auckland\, Bldg 303 - G75S\, 38 Pri
 nces St\, Auckland\, Auckland\, 1010\, New Zealand
END:VEVENT
END:VCALENDAR
