BEGIN:VCALENDAR
VERSION:2.0
PRODID:-//Squarespace Inc/Squarespace 6//v6//EN
BEGIN:VEVENT
UID:598410cee58c62ee93087bc8@squarespace.com
DTSTAMP:20170807T053918Z
DTSTART:20170810T060000Z
DTEND:20170810T083000Z
SUMMARY:Synapse Auckland 2017
GEO:-36.84846;174.763332
LOCATION:12 Grafton Road\, Auckland\, New Zealand
END:VEVENT
END:VCALENDAR
