BEGIN:VCALENDAR
VERSION:2.0
PRODID:-//Squarespace Inc/Squarespace 6//v6//EN
BEGIN:VEVENT
UID:592e3dc11b10e3f5174d56e2@squarespace.com
DTSTAMP:20170603T040731Z
DTSTART:20170613T053000Z
DTEND:20170613T073000Z
SUMMARY:Get Rich from Research: Postgraduate Workshop
END:VEVENT
END:VCALENDAR
