BEGIN:VCALENDAR
VERSION:2.0
PRODID:-//Squarespace Inc/Squarespace 6//v6//EN
BEGIN:VEVENT
UID:591050db15d5dbcc2c51097d@squarespace.com
DTSTAMP:20170508T111740Z
DTSTART:20170518T053000Z
DTEND:20170518T073000Z
SUMMARY:Talk Science to Anyone
GEO:-36.861362;174.769324
LOCATION:Room 503-024\, Grafton Campus\, 85 Park Road\, Auckland\, Auckland
 \, 1023\, New Zealand
END:VEVENT
END:VCALENDAR
