BEGIN:VCALENDAR
VERSION:2.0
PRODID:-//Squarespace Inc/Squarespace 6//v6//EN
BEGIN:VEVENT
UID:59003a2246c3c40906a68ca9@squarespace.com
DTSTAMP:20170426T071213Z
DTSTART:20170426T050000Z
DTEND:20170426T070000Z
SUMMARY:Science Communication Workshop - Dunedin
GEO:-45.863318;170.514361
LOCATION:Centre for Innovation\, Seminar Room\, 87 Saint David Street\, Dun
 edin\, Otago\, 9016\, New Zealand
END:VEVENT
END:VCALENDAR
