BEGIN:VCALENDAR
VERSION:2.0
PRODID:-//Squarespace Inc/Squarespace 6//v6//EN
BEGIN:VEVENT
UID:58df5b99d2b85723410c518c@squarespace.com
DTSTAMP:20170403T072417Z
DTSTART:20170405T060000Z
DTEND:20170405T080000Z
SUMMARY:Coding for the Future
GEO:-36.852529;174.767989
LOCATION:Room 303S-G75\, 38 Princes Street\, Auckland\, 1010\, New Zealand
END:VEVENT
END:VCALENDAR
