BEGIN:VCALENDAR
VERSION:2.0
PRODID:-//Squarespace Inc/Squarespace 6//v6//EN
BEGIN:VEVENT
UID:58be85582994cad02a7cfa05@squarespace.com
DTSTAMP:20170319T055831Z
DTSTART:20170305T110000Z
DTEND:20170330T235900Z
SUMMARY:Chiasma Connect Auckland 2017 Applications
END:VEVENT
END:VCALENDAR
