BEGIN:VCALENDAR
VERSION:2.0
PRODID:-//Squarespace Inc/Squarespace 6//v6//EN
BEGIN:VEVENT
UID:58bf7f17c534a5e3ac62b9d3@squarespace.com
DTSTAMP:20170318T073112Z
DTSTART:20170324T040000Z
DTEND:20170324T050000Z
SUMMARY:Chiasma Dunedin Launch 2017
GEO:-45.863318;170.514361
LOCATION:Center for Innovation 87 St David St 87 Saint David Street Dunedin
 \, Otago 9016\, Dunedin\, New Zealand
END:VEVENT
END:VCALENDAR
