BEGIN:VCALENDAR
VERSION:2.0
PRODID:-//Squarespace Inc/Squarespace 6//v6//EN
BEGIN:VEVENT
UID:58bf82a259cc68cc368f2d9c@squarespace.com
DTSTAMP:20170318T073130Z
DTSTART:20170323T043000Z
DTEND:20170323T073000Z
SUMMARY:Chiasma Wellington Launch 2017
END:VEVENT
END:VCALENDAR
