BEGIN:VCALENDAR
VERSION:2.0
PRODID:-//Squarespace Inc/Squarespace 6//v6//EN
BEGIN:VEVENT
UID:58bf85f459cc68cc368f5a48@squarespace.com
DTSTAMP:20170318T073100Z
DTSTART:20170323T053000Z
DTEND:20170323T073000Z
SUMMARY:Chiasma Auckland Launch 2017
GEO:-36.853302;174.77085
LOCATION:OWEN G GLENN BUILDING 12 GRAFTON ROAD\, Auckland\, 1010\, New Zeal
 and
END:VEVENT
END:VCALENDAR
