BEGIN:VCALENDAR
VERSION:2.0
PRODID:-//Squarespace Inc/Squarespace 6//v6//EN
BEGIN:VEVENT
UID:57be6dde6b8f5b1b1afb7f22@squarespace.com
DTSTAMP:20160829T034532Z
DTSTART:20160907T213000Z
DTEND:20160908T020000Z
SUMMARY:Baxter Site Visit - Auckland
GEO:-36.851158;174.770696
LOCATION:Thomas Building (Building 110)\, 3A Symonds Street\, Auckland\, Au
 ckland\, 1010\, New Zealand
END:VEVENT
END:VCALENDAR
