BEGIN:VCALENDAR
VERSION:2.0
PRODID:-//Squarespace Inc/Squarespace 6//v6//EN
BEGIN:VEVENT
UID:57e7bac229687f1c49c3a91a@squarespace.com
DTSTAMP:20161006T000530Z
DTSTART:20161006T040000Z
DTEND:20161006T050000Z
SUMMARY:Join Chiasma's 2017 Team!
GEO:-36.851158;174.770696
LOCATION:3A Symonds Street\, Auckland\, Auckland\, 1010\, New Zealand
END:VEVENT
END:VCALENDAR
