BEGIN:VCALENDAR
VERSION:2.0
PRODID:-//Squarespace Inc/Squarespace 6//v6//EN
BEGIN:VEVENT
UID:57cd50e0725e25df3efac40b@squarespace.com
DTSTAMP:20160905T111326Z
DTSTART:20160921T060000Z
DTEND:20160921T090000Z
SUMMARY:Synapse 2016 - Dunedin
GEO:-45.865155;170.510358
LOCATION:Otago Museum: Hutton Theatre\, 419 Great King Street\, North Duned
 in\, New Zealand
END:VEVENT
END:VCALENDAR
