BEGIN:VCALENDAR
VERSION:2.0
PRODID:-//Squarespace Inc/Squarespace 6//v6//EN
BEGIN:VEVENT
UID:57d667e6d482e9b1b368b783@squarespace.com
DTSTAMP:20160919T063935Z
DTSTART:20160920T060000Z
DTEND:20160920T080000Z
SUMMARY:Chiasma Coding Workshop 2 - Auckland
GEO:-36.852529;174.767989
LOCATION:New Science Centre (Room 302-180)\, The University of Auckland\, 3
 8 Princes Street\, Auckland\, Auckland\, 1010\, New Zealand
END:VEVENT
END:VCALENDAR
