BEGIN:VCALENDAR
VERSION:2.0
PRODID:-//Squarespace Inc/Squarespace 6//v6//EN
BEGIN:VEVENT
UID:57c7fc7ecd0f68f5c7329470@squarespace.com
DTSTAMP:20160902T170516Z
DTSTART:20160916T033000Z
DTEND:20160916T060000Z
SUMMARY:Future Entrepreneurs Forum
GEO:-36.851857;174.762342
LOCATION:50 Mayoral Drive\, Auckland\, Auckland\, 1010\, New Zealand
END:VEVENT
END:VCALENDAR
