BEGIN:VCALENDAR
VERSION:2.0
PRODID:-//Squarespace Inc/Squarespace 6//v6//EN
BEGIN:VEVENT
UID:56f90d271711077fa4d7c0f1@squarespace.com
DTSTAMP:20160823T000243Z
DTSTART:20160823T050000Z
DTEND:20160823T070000Z
SUMMARY:Science Communication Workshop
GEO:-36.852977;174.769854
LOCATION:Engineering Building 404-501\, 20 Symonds Street\, Auckland\, Auck
 land\, 1010\, New Zealand
END:VEVENT
END:VCALENDAR
