BEGIN:VCALENDAR
VERSION:2.0
PRODID:-//Squarespace Inc/Squarespace 6//v6//EN
BEGIN:VEVENT
UID:579ec9248419c2591c602c36@squarespace.com
DTSTAMP:20160801T040457Z
DTSTART:20160731T120000Z
DTEND:20160803T115900Z
SUMMARY:University Startup Challenge
END:VEVENT
END:VCALENDAR
