BEGIN:VCALENDAR
VERSION:2.0
PRODID:-//Squarespace Inc/Squarespace 6//v6//EN
BEGIN:VEVENT
UID:57044beed51cd4379e4a400c@squarespace.com
DTSTAMP:20160429T043640Z
DTSTART:20160505T050000Z
DTEND:20160505T070000Z
SUMMARY:Science Communication Workshop
GEO:-41.289335;174.767312
LOCATION:AMLT105 Victoria University Wellington\, Kelburn Parade\, Wellingt
 on\, Wellington\, 6012\, New Zealand
END:VEVENT
END:VCALENDAR
