BEGIN:VCALENDAR
VERSION:2.0
PRODID:-//Squarespace Inc/Squarespace 6//v6//EN
BEGIN:VEVENT
UID:57044d58d210b86ec9a16cc0@squarespace.com
DTSTAMP:20160429T044102Z
DTSTART:20160518T000000Z
DTEND:20160518T010000Z
SUMMARY:Guest Lecture Series: Gary Bolles
GEO:-41.289335;174.767312
LOCATION:AM 105 Victoria University of Wellington\, Kelburn Parade\, Wellin
 gton\, Wellington\, 6012\, New Zealand
END:VEVENT
END:VCALENDAR
