BEGIN:VCALENDAR
VERSION:2.0
PRODID:-//Squarespace Inc/Squarespace 6//v6//EN
BEGIN:VEVENT
UID:56f911baac962c8475256660@squarespace.com
DTSTAMP:20160510T034816Z
DTSTART:20160512T052000Z
DTEND:20160512T073000Z
SUMMARY:Science Innovation & Commercialisation Workshop
GEO:-36.861407;174.769276
LOCATION:503 - 024 Faculty of Medical and Health Science\, 85 Park Road\, A
 uckland\, Auckland\, 1023\, New Zealand
END:VEVENT
END:VCALENDAR
