BEGIN:VCALENDAR
VERSION:2.0
PRODID:-//Squarespace Inc/Squarespace 6//v6//EN
BEGIN:VEVENT
UID:57058399356fb026ac02d948@squarespace.com
DTSTAMP:20160406T214718Z
DTSTART:20160421T030000Z
DTEND:20160421T050000Z
SUMMARY:Grow In Wellington- NIWA Site Visit
GEO:-41.28646;174.776236
LOCATION:NIWA\, Wellington
END:VEVENT
END:VCALENDAR
