BEGIN:VCALENDAR
VERSION:2.0
PRODID:-//Squarespace Inc/Squarespace 6//v6//EN
BEGIN:VEVENT
UID:55f64683e4b033f76031b365@squarespace.com
DTSTAMP:20160408T005804Z
DTSTART:20160419T213000Z
DTEND:20160420T020000Z
SUMMARY:The Foodbowl Site Visit - Auckland
GEO:-36.985907;174.789298
LOCATION:FoodBowl\, 28 Verissimo Drive\, Mangere\, Auckland\, 2022\, New Ze
 aland
END:VEVENT
END:VCALENDAR
