BEGIN:VCALENDAR
VERSION:2.0
PRODID:-//Squarespace Inc/Squarespace 6//v6//EN
BEGIN:VEVENT
UID:56f912411330ba7d4b03d6aa@squarespace.com
DTSTAMP:20160727T024533Z
DTSTART:20160804T061500Z
DTEND:20160804T083000Z
SUMMARY:Synapse 2016
GEO:-36.852854;174.770979
LOCATION:Owen G Glenn Bldg\, 12 Grafton Road\, Auckland\, Auckland\, 1010\, 
 New Zealand
END:VEVENT
END:VCALENDAR
