BEGIN:VCALENDAR
VERSION:2.0
PRODID:-//Squarespace Inc/Squarespace 6//v6//EN
BEGIN:VEVENT
UID:56dbb8c94c2f858cb431ff75@squarespace.com
DTSTAMP:20160309T191056Z
DTSTART:20160322T043000Z
DTEND:20160322T063000Z
SUMMARY:Chiasma Coding Workshop 2016 - Auckland
GEO:40.720756;-74.000761
LOCATION:To be confirmed
END:VEVENT
END:VCALENDAR
