BEGIN:VCALENDAR
VERSION:2.0
PRODID:-//Squarespace Inc/Squarespace 6//v6//EN
BEGIN:VEVENT
UID:56dbb5c9555986f25c6e0872@squarespace.com
DTSTAMP:20170308T041743Z
DTSTART:20160317T050000Z
DTEND:20160317T073000Z
SUMMARY:Chiasma Launch 2016 - Auckland
GEO:-36.852854;174.770979
LOCATION:OWEN G GLENN BUILDING 12 Grafton Road\, Auckland\, Auckland\, 1010
 \, New Zealand
END:VEVENT
END:VCALENDAR
