BEGIN:VCALENDAR
VERSION:2.0
PRODID:-//Squarespace Inc/Squarespace 6//v6//EN
BEGIN:VEVENT
UID:54fcdc83e4b00f89047a7e66@squarespace.com
DTSTAMP:20170319T055630Z
DTSTART:20160228T110000Z
DTEND:20160329T105900Z
SUMMARY:Chiasma Connect 2016 Application - Auckland
END:VEVENT
END:VCALENDAR
