BEGIN:VCALENDAR
VERSION:2.0
PRODID:-//Squarespace Inc/Squarespace 6//v6//EN
BEGIN:VEVENT
UID:56f90efdecb92886bb738a00@squarespace.com
DTSTAMP:20160927T120106Z
DTSTART:20161004T040000Z
DTEND:20161004T060000Z
SUMMARY: Career Catalyst: Professional Development Workshop 2016
GEO:-36.852854;174.770979
LOCATION:OGGB\, Case Room 4\, 12 Grafton Road\, Auckland\, Auckland\, 1010\
 , New Zealand
END:VEVENT
END:VCALENDAR
