BEGIN:VCALENDAR
VERSION:2.0
PRODID:-//Squarespace Inc/Squarespace 6//v6//EN
BEGIN:VEVENT
UID:55e1a1d9e4b05355474e46b1@squarespace.com
DTSTAMP:20150902T044724Z
DTSTART:20150902T210000Z
DTEND:20150903T000000Z
SUMMARY:Douglas Pharmaceuticals Site Visit - Auckland
GEO:-36.861381;174.634925
LOCATION:Douglas Pharmaceuticals\, Central Park Dr\, Auckland\, Auckland\, 
 New Zealand
END:VEVENT
END:VCALENDAR
