BEGIN:VCALENDAR
VERSION:2.0
PRODID:-//Squarespace Inc/Squarespace 6//v6//EN
BEGIN:VEVENT
UID:55e67ceae4b0abea4dc2c3b4@squarespace.com
DTSTAMP:20150902T044951Z
DTSTART:20150910T213500Z
DTEND:20150911T000000Z
SUMMARY:Crown Site Visit - Auckland
GEO:-36.919824;174.821796
LOCATION:419 Church St E\, Auckland\, Auckland\, 1061\, New Zealand
END:VEVENT
END:VCALENDAR
