BEGIN:VCALENDAR
VERSION:2.0
PRODID:-//Squarespace Inc/Squarespace 6//v6//EN
BEGIN:VEVENT
UID:54f18278e4b02ef942ad318f@squarespace.com
DTSTAMP:20150723T112557Z
DTSTART:20150805T061500Z
DTEND:20150805T083000Z
SUMMARY:Synapse 2015 - Auckland
GEO:-36.85294;174.771
LOCATION:Owen G Glenn Building\, 12 Grafton Rd\, Auckland\, Auckland\, 1010
 \, New Zealand
END:VEVENT
END:VCALENDAR
