BEGIN:VCALENDAR
VERSION:2.0
PRODID:-//Squarespace Inc/Squarespace 6//v6//EN
BEGIN:VEVENT
UID:54f184fee4b0c3d27ffd334a@squarespace.com
DTSTAMP:20150906T133518Z
DTSTART:20150918T220000Z
DTEND:20150919T040000Z
SUMMARY:Science Innovation & Commercialisation Workshop - Auckland
END:VEVENT
END:VCALENDAR
