BEGIN:VCALENDAR
VERSION:2.0
PRODID:-//Squarespace Inc/Squarespace 6//v6//EN
BEGIN:VEVENT
UID:5594eaabe4b03888fbba6ea8@squarespace.com
DTSTAMP:20150702T074444Z
DTSTART:20150729T060000Z
DTEND:20150729T073000Z
SUMMARY:Chiasma Innovate
END:VEVENT
END:VCALENDAR
