BEGIN:VCALENDAR
VERSION:2.0
PRODID:-//Squarespace Inc/Squarespace 6//v6//EN
BEGIN:VEVENT
UID:5594e7c8e4b099fe48973ea4@squarespace.com
DTSTAMP:20150702T073853Z
DTSTART:20150717T043000Z
DTEND:20150717T063000Z
SUMMARY:Future Entrepreneurs' Forum 2015 - Auckland
END:VEVENT
END:VCALENDAR
