BEGIN:VCALENDAR
VERSION:2.0
PRODID:-//Squarespace Inc/Squarespace 6//v6//EN
BEGIN:VEVENT
UID:54f1284be4b002fbcd23f3b6@squarespace.com
DTSTAMP:20150418T034809Z
DTSTART:20150508T220000Z
DTEND:20150509T020000Z
SUMMARY:Science Communication Workshop - Auckland
GEO:-36.861407;174.769276
LOCATION:503-024\, University of Auckland Grafton Campus\, 85 Park Rd\, Auc
 kland\, Auckland\, 1023\, New Zealand
END:VEVENT
END:VCALENDAR
