BEGIN:VCALENDAR
VERSION:2.0
PRODID:-//Squarespace Inc/Squarespace 6//v6//EN
BEGIN:VEVENT
UID:5531c782e4b0a33a05a82c03@squarespace.com
DTSTAMP:20150418T034141Z
DTSTART:20150430T051500Z
DTEND:20150430T063000Z
SUMMARY:C-Prize Competition Information Evening 2015
GEO:-36.851158;174.770696
LOCATION:Thomas Building Reception Lounge\, Uni of Auckland\, 3A Symonds St
 \, Auckland\, Auckland\, 1010\, New Zealand
END:VEVENT
END:VCALENDAR
