BEGIN:VCALENDAR
VERSION:2.0
PRODID:-//Squarespace Inc/Squarespace 6//v6//EN
BEGIN:VEVENT
UID:54ec4e8ae4b056f5cc4a0621@squarespace.com
DTSTAMP:20150317T003207Z
DTSTART:20150320T210000Z
DTEND:20150321T020000Z
SUMMARY:Career Catalyst: Professional Development Workshop 1 - Auckland
END:VEVENT
END:VCALENDAR
