BEGIN:VCALENDAR
VERSION:2.0
PRODID:-//Squarespace Inc/Squarespace 6//v6//EN
BEGIN:VEVENT
UID:54ec49e9e4b09706d4b2c2db@squarespace.com
DTSTAMP:20150308T230047Z
DTSTART:20150311T051500Z
DTEND:20150311T070000Z
SUMMARY:Chiasma Launch 2015 - Auckland
GEO:-36.85294;174.771
LOCATION:Owen G Glenn Building\, 12 Grafton Rd\, Auckland\, Auckland\, 1010
 \, New Zealand
END:VEVENT
END:VCALENDAR
