BEGIN:VCALENDAR
VERSION:2.0
PRODID:-//Squarespace Inc/Squarespace 6//v6//EN
BEGIN:VEVENT
UID:560f668be4b00eddebccb7ff@squarespace.com
DTSTAMP:20151005T022155Z
DTSTART:20151015T043000Z
DTEND:20151015T073000Z
SUMMARY:Chiasma Recruitment Evening 2015 - Auckland
GEO:-36.851158;174.770696
LOCATION:Foyer\, Thomas Building\, The University of Auckland\, 3A Symonds 
 Street\, Auckland\, 1010\, New Zealand
END:VEVENT
END:VCALENDAR
